BEGIN:VCALENDAR
VERSION:2.0
PRODID:-//Village Craft Winemaker - ECPv6.15.20//NONSGML v1.0//EN
CALSCALE:GREGORIAN
METHOD:PUBLISH
X-ORIGINAL-URL:https://villagecraftwinemaker.ca
X-WR-CALDESC:Events for Village Craft Winemaker
REFRESH-INTERVAL;VALUE=DURATION:PT1H
X-Robots-Tag:noindex
X-PUBLISHED-TTL:PT1H
BEGIN:VTIMEZONE
TZID:America/Edmonton
BEGIN:DAYLIGHT
TZOFFSETFROM:-0700
TZOFFSETTO:-0600
TZNAME:MDT
DTSTART:20240310T090000
END:DAYLIGHT
BEGIN:STANDARD
TZOFFSETFROM:-0600
TZOFFSETTO:-0700
TZNAME:MST
DTSTART:20241103T080000
END:STANDARD
BEGIN:DAYLIGHT
TZOFFSETFROM:-0700
TZOFFSETTO:-0600
TZNAME:MDT
DTSTART:20250309T090000
END:DAYLIGHT
BEGIN:STANDARD
TZOFFSETFROM:-0600
TZOFFSETTO:-0700
TZNAME:MST
DTSTART:20251102T080000
END:STANDARD
BEGIN:DAYLIGHT
TZOFFSETFROM:-0700
TZOFFSETTO:-0600
TZNAME:MDT
DTSTART:20260308T090000
END:DAYLIGHT
BEGIN:STANDARD
TZOFFSETFROM:-0600
TZOFFSETTO:-0700
TZNAME:MST
DTSTART:20261101T080000
END:STANDARD
END:VTIMEZONE
BEGIN:VEVENT
DTSTART;VALUE=DATE:20251111
DTEND;VALUE=DATE:20251114
DTSTAMP:20260421T151945
CREATED:20231110T154859Z
LAST-MODIFIED:20250310T010540Z
UID:5337-1762819200-1763078399@villagecraftwinemaker.ca
SUMMARY:Remembrance Day November 11\, 2025
DESCRIPTION:Lest we forget.
URL:https://villagecraftwinemaker.ca/event/remembrance-day/
LOCATION:Village Craft Winemaker\, 105 358 58 Ave SW\, Calgary\, AB\, T2H2M5\, Canada
CATEGORIES:day
ORGANIZER;CN="Village Craft Winemaker":MAILTO:lori@villagecraftwinemaker.ca
END:VEVENT
END:VCALENDAR