BEGIN:VCALENDAR
VERSION:2.0
PRODID:-//Village Craft Winemaker - ECPv6.15.20//NONSGML v1.0//EN
CALSCALE:GREGORIAN
METHOD:PUBLISH
X-WR-CALNAME:Village Craft Winemaker
X-ORIGINAL-URL:https://villagecraftwinemaker.ca
X-WR-CALDESC:Events for Village Craft Winemaker
REFRESH-INTERVAL;VALUE=DURATION:PT1H
X-Robots-Tag:noindex
X-PUBLISHED-TTL:PT1H
BEGIN:VTIMEZONE
TZID:America/Edmonton
BEGIN:DAYLIGHT
TZOFFSETFROM:-0700
TZOFFSETTO:-0600
TZNAME:MDT
DTSTART:20240310T090000
END:DAYLIGHT
BEGIN:STANDARD
TZOFFSETFROM:-0600
TZOFFSETTO:-0700
TZNAME:MST
DTSTART:20241103T080000
END:STANDARD
BEGIN:DAYLIGHT
TZOFFSETFROM:-0700
TZOFFSETTO:-0600
TZNAME:MDT
DTSTART:20250309T090000
END:DAYLIGHT
BEGIN:STANDARD
TZOFFSETFROM:-0600
TZOFFSETTO:-0700
TZNAME:MST
DTSTART:20251102T080000
END:STANDARD
BEGIN:DAYLIGHT
TZOFFSETFROM:-0700
TZOFFSETTO:-0600
TZNAME:MDT
DTSTART:20260308T090000
END:DAYLIGHT
BEGIN:STANDARD
TZOFFSETFROM:-0600
TZOFFSETTO:-0700
TZNAME:MST
DTSTART:20261101T080000
END:STANDARD
END:VTIMEZONE
BEGIN:VEVENT
DTSTART;VALUE=DATE:20250615
DTEND;VALUE=DATE:20250616
DTSTAMP:20260425T042823
CREATED:20250413T161148Z
LAST-MODIFIED:20250413T163616Z
UID:8355-1749945600-1750031999@villagecraftwinemaker.ca
SUMMARY:Fathers Day: June 15\, 2025
DESCRIPTION:Happy Father’s Day\n \nFather’s Day falls on the third Sunday of June—this year\, that’s June 15\, 2025. It’s a time to celebrate dads\, grandpas\, and father figures who’ve been there with strength\, support\, and maybe the occasional dad joke. \nLooking for a gift that’s better than another tie? Help Dad craft his own beer! From hoppy IPAs to crisp lagers and rich stouts\, we’ve got beer kits that suit every taste and experience level. Whether he’s a brewing pro or brand new to the hobby\, making beer together is a gift that’s personal\, fun\, and rewarding. \n🎁 Reserve your Beer Kit today—cheers to Dad!
URL:https://villagecraftwinemaker.ca/event/fathers-day-june-15-2025/
CATEGORIES:day
END:VEVENT
END:VCALENDAR