BEGIN:VCALENDAR
VERSION:2.0
PRODID:-//Village Craft Winemaker - ECPv6.15.20//NONSGML v1.0//EN
CALSCALE:GREGORIAN
METHOD:PUBLISH
X-WR-CALNAME:Village Craft Winemaker
X-ORIGINAL-URL:https://villagecraftwinemaker.ca
X-WR-CALDESC:Events for Village Craft Winemaker
REFRESH-INTERVAL;VALUE=DURATION:PT1H
X-Robots-Tag:noindex
X-PUBLISHED-TTL:PT1H
BEGIN:VTIMEZONE
TZID:America/Edmonton
BEGIN:DAYLIGHT
TZOFFSETFROM:-0700
TZOFFSETTO:-0600
TZNAME:MDT
DTSTART:20240310T090000
END:DAYLIGHT
BEGIN:STANDARD
TZOFFSETFROM:-0600
TZOFFSETTO:-0700
TZNAME:MST
DTSTART:20241103T080000
END:STANDARD
BEGIN:DAYLIGHT
TZOFFSETFROM:-0700
TZOFFSETTO:-0600
TZNAME:MDT
DTSTART:20250309T090000
END:DAYLIGHT
BEGIN:STANDARD
TZOFFSETFROM:-0600
TZOFFSETTO:-0700
TZNAME:MST
DTSTART:20251102T080000
END:STANDARD
BEGIN:DAYLIGHT
TZOFFSETFROM:-0700
TZOFFSETTO:-0600
TZNAME:MDT
DTSTART:20260308T090000
END:DAYLIGHT
BEGIN:STANDARD
TZOFFSETFROM:-0600
TZOFFSETTO:-0700
TZNAME:MST
DTSTART:20261101T080000
END:STANDARD
END:VTIMEZONE
BEGIN:VEVENT
DTSTART;VALUE=DATE:20251117
DTEND;VALUE=DATE:20251124
DTSTAMP:20260424T214351
CREATED:20230112T205919Z
LAST-MODIFIED:20250310T010459Z
UID:4159-1763337600-1763942399@villagecraftwinemaker.ca
SUMMARY:Zinfandel Day November 20\, 2025
DESCRIPTION:Zinfandel is synonymous with California however it was discovered that it is related to the Italian Primitivo and actually comes from Croatia.   Zinfandel produces full-bodied\, robust red wines with some of the highest Alcohol content. \nLodi\, in Central California\, is known to have some of the country’s oldest Zinfandel vines\, some of which are more than 100 years old. \nWe have a Cru INternational Zinfandel and En Premeur Italian Zinfandel plus a Winepert Private Reserve Lodi Old Vine Zinfandel. 15% off\, cannot be combined with other offers. Primitivo.
URL:https://villagecraftwinemaker.ca/event/zinfandel-day-november-20-2024/
LOCATION:Village Craft Winemaker\, 105 358 58 Ave SW\, Calgary\, AB\, T2H2M5\, Canada
CATEGORIES:day,sale
ORGANIZER;CN="Village Craft Winemaker":MAILTO:lori@villagecraftwinemaker.ca
END:VEVENT
BEGIN:VEVENT
DTSTART;VALUE=DATE:20251129
DTEND;VALUE=DATE:20251208
DTSTAMP:20260424T214351
CREATED:20241204T185248Z
LAST-MODIFIED:20250411T024319Z
UID:7695-1764374400-1765151999@villagecraftwinemaker.ca
SUMMARY:International Cabernet Franc Day
DESCRIPTION:Cabernet Franc day December 4\, 2025\, which is one of the wine world’s most important\, yet often understated\, red grape varieties.Today\, Cabernet Franc is one of the most widely planted grape varieties in the world \nIt all began in southwest France sometime in the 17th century with Cardinal Richelieu’s love for a particular blue-black grape. He loved them so much that he transported vine cuttings from Bordeaux to the Loire Valley. The berry has been growing and thriving there ever since. \nToday\, Cabernet Franc is one of the most widely planted grape varieties in the world. It is a blending wine in French wines. Most famous blends are Saint Emilion and Pomerol. \nLuxurious\, food-friendly acidic flavours of cherries\, blackberries and plums combined with toasty nutmeg and vanilla spices\, bring this medium-bodied wine to life \nCab Franc is also the parent of Cabernet Sauvignon \nOn the palate\, it unveils a round mouth feel with the bold tannins  for a remarkably supported finish. \nCabernet Franc is the parent of Cabernet Sauvignon\, Merlot and Carmenere.
URL:https://villagecraftwinemaker.ca/event/international-cabernet-franc-day/
LOCATION:Village Craft Winemaker\, 105 358 58 Ave SW\, Calgary\, AB\, T2H2M5\, Canada
CATEGORIES:day,sale
ORGANIZER;CN="Village Craft Winemaker":MAILTO:lori@villagecraftwinemaker.ca
END:VEVENT
END:VCALENDAR