BEGIN:VCALENDAR
VERSION:2.0
PRODID:-//Village Craft Winemaker - ECPv6.15.20//NONSGML v1.0//EN
CALSCALE:GREGORIAN
METHOD:PUBLISH
X-ORIGINAL-URL:https://villagecraftwinemaker.ca
X-WR-CALDESC:Events for Village Craft Winemaker
REFRESH-INTERVAL;VALUE=DURATION:PT1H
X-Robots-Tag:noindex
X-PUBLISHED-TTL:PT1H
BEGIN:VTIMEZONE
TZID:America/Edmonton
BEGIN:DAYLIGHT
TZOFFSETFROM:-0700
TZOFFSETTO:-0600
TZNAME:MDT
DTSTART:20250309T090000
END:DAYLIGHT
BEGIN:STANDARD
TZOFFSETFROM:-0600
TZOFFSETTO:-0700
TZNAME:MST
DTSTART:20251102T080000
END:STANDARD
BEGIN:DAYLIGHT
TZOFFSETFROM:-0700
TZOFFSETTO:-0600
TZNAME:MDT
DTSTART:20260308T090000
END:DAYLIGHT
BEGIN:STANDARD
TZOFFSETFROM:-0600
TZOFFSETTO:-0700
TZNAME:MST
DTSTART:20261101T080000
END:STANDARD
BEGIN:DAYLIGHT
TZOFFSETFROM:-0700
TZOFFSETTO:-0600
TZNAME:MDT
DTSTART:20270314T090000
END:DAYLIGHT
BEGIN:STANDARD
TZOFFSETFROM:-0600
TZOFFSETTO:-0700
TZNAME:MST
DTSTART:20271107T080000
END:STANDARD
END:VTIMEZONE
BEGIN:VEVENT
DTSTART;VALUE=DATE:20260701
DTEND;VALUE=DATE:20260702
DTSTAMP:20260424T172049
CREATED:20250702T052052Z
LAST-MODIFIED:20250702T052052Z
UID:8786-1782864000-1782950399@villagecraftwinemaker.ca
SUMMARY:Happy Canada Day: July 1\, 2026
DESCRIPTION:Happy Canada Day\n \n🍁🇨🇦 Happy Canada Day from Village Craft Winemaker! 🇨🇦🍁 \nHere’s to red wine\, white wine\, and cold craft beer shared with good friends on a sunny patio. 🍷🍺☀️Whether you’re raising a glass of bold Merlot\, crisp Sauvignon Blanc\, or a frosty Pale Ale — do it the Canadian way: with heart\, hospitality\, and a whole lot of cheers. \nThis Canada Day\, let’s celebrate:🍇 Homegrown winemaking traditions🍻 Craft beer that brings backyard BBQs to life🎉 The freedom to brew\, blend\, and enjoy with prideCheers to community\, craftsmanship\, and Canada! 🥂🍁
URL:https://villagecraftwinemaker.ca/event/happy-canada-day-july-1-2026/
CATEGORIES:day
END:VEVENT
END:VCALENDAR