BEGIN:VCALENDAR
VERSION:2.0
PRODID:-//Village Craft Winemaker - ECPv6.15.20//NONSGML v1.0//EN
CALSCALE:GREGORIAN
METHOD:PUBLISH
X-ORIGINAL-URL:https://villagecraftwinemaker.ca
X-WR-CALDESC:Events for Village Craft Winemaker
REFRESH-INTERVAL;VALUE=DURATION:PT1H
X-Robots-Tag:noindex
X-PUBLISHED-TTL:PT1H
BEGIN:VTIMEZONE
TZID:America/Edmonton
BEGIN:DAYLIGHT
TZOFFSETFROM:-0700
TZOFFSETTO:-0600
TZNAME:MDT
DTSTART:20250309T090000
END:DAYLIGHT
BEGIN:STANDARD
TZOFFSETFROM:-0600
TZOFFSETTO:-0700
TZNAME:MST
DTSTART:20251102T080000
END:STANDARD
BEGIN:DAYLIGHT
TZOFFSETFROM:-0700
TZOFFSETTO:-0600
TZNAME:MDT
DTSTART:20260308T090000
END:DAYLIGHT
BEGIN:STANDARD
TZOFFSETFROM:-0600
TZOFFSETTO:-0700
TZNAME:MST
DTSTART:20261101T080000
END:STANDARD
BEGIN:DAYLIGHT
TZOFFSETFROM:-0700
TZOFFSETTO:-0600
TZNAME:MDT
DTSTART:20270314T090000
END:DAYLIGHT
BEGIN:STANDARD
TZOFFSETFROM:-0600
TZOFFSETTO:-0700
TZNAME:MST
DTSTART:20271107T080000
END:STANDARD
END:VTIMEZONE
BEGIN:VEVENT
DTSTART;VALUE=DATE:20260504
DTEND;VALUE=DATE:20260511
DTSTAMP:20260422T014752
CREATED:20250412T225037Z
LAST-MODIFIED:20250413T005032Z
UID:8287-1777852800-1778457599@villagecraftwinemaker.ca
SUMMARY:International Moscato Day: May 9\, 2026
DESCRIPTION:World Moscato Day\n \nMoscato wine is famous for its sweet flavors of peaches and orange blossom. The word Moscato (“moe-ska-toe”) is the Italian name for Muscat Blanc – one of the oldest wine grapes in the world! Grown in France\, Italy\, Austria\, Greece\, Israel and even Australia. Wines are often dry to taste\, but since the aromatics are so sweet and fruity your brain tricks you into thinking they’re sweet. They’re awesome\, especially if you are counting Carbs. \nAvailable in\, RJS Cru International Muscat and En Primeur Winemaker Trio White. \n15% off kits till May 10\, 2026
URL:https://villagecraftwinemaker.ca/event/international-moscato-day-may-9-2026/
LOCATION:Village Craft Winemaker\, 105 358 58 Ave SW\, Calgary\, AB\, T2H2M5\, Canada
CATEGORIES:day,sale
ORGANIZER;CN="Village Craft Winemaker":MAILTO:lori@villagecraftwinemaker.ca
END:VEVENT
BEGIN:VEVENT
DTSTART;VALUE=DATE:20260518
DTEND;VALUE=DATE:20260525
DTSTAMP:20260422T014752
CREATED:20250412T235356Z
LAST-MODIFIED:20250413T004914Z
UID:8304-1779062400-1779667199@villagecraftwinemaker.ca
SUMMARY:International Chardonnay Day: May 21 \, 2026
DESCRIPTION:International Chardonnay Day\n \nThursday before Memorial Day (May 21 in 2026) \nDescribing the flavours of a Chardonnay can be very challenging because they differ based on different winemaking techniques. They boast impressive ranges from the expected butter and oak to fresh fruit flavours of citrus\, apple and tropical fruits. While many Chardonnays have high aromatic complexity\, others can have smoky\, vanilla and spice notes due to barrel fermentation or distinctive buttery aromas due to malolactic fermentation. \nThese are not the old over-oaked Chardonnay from years ago. Also French Chablis is a Chardonnay. The wines should be fruity yet balanced by a steely\, mineral character that’s the epitome of Chardonnay this far north. \nEnjoy this Chardonnay 15 % off all Chardonnay kits from May 18 to May 24\, 2026 – Cannot be combined with other offers!
URL:https://villagecraftwinemaker.ca/event/international-chardonnay-day-may-21-2026/
LOCATION:Village Craft Winemaker\, 105 358 58 Ave SW\, Calgary\, AB\, T2H2M5\, Canada
CATEGORIES:day,sale
ORGANIZER;CN="Village Craft Winemaker":MAILTO:lori@villagecraftwinemaker.ca
END:VEVENT
END:VCALENDAR