BEGIN:VCALENDAR
VERSION:2.0
PRODID:-//Village Craft Winemaker - ECPv6.15.20//NONSGML v1.0//EN
CALSCALE:GREGORIAN
METHOD:PUBLISH
X-WR-CALNAME:Village Craft Winemaker
X-ORIGINAL-URL:https://villagecraftwinemaker.ca
X-WR-CALDESC:Events for Village Craft Winemaker
REFRESH-INTERVAL;VALUE=DURATION:PT1H
X-Robots-Tag:noindex
X-PUBLISHED-TTL:PT1H
BEGIN:VTIMEZONE
TZID:America/Edmonton
BEGIN:DAYLIGHT
TZOFFSETFROM:-0700
TZOFFSETTO:-0600
TZNAME:MDT
DTSTART:20240310T090000
END:DAYLIGHT
BEGIN:STANDARD
TZOFFSETFROM:-0600
TZOFFSETTO:-0700
TZNAME:MST
DTSTART:20241103T080000
END:STANDARD
BEGIN:DAYLIGHT
TZOFFSETFROM:-0700
TZOFFSETTO:-0600
TZNAME:MDT
DTSTART:20250309T090000
END:DAYLIGHT
BEGIN:STANDARD
TZOFFSETFROM:-0600
TZOFFSETTO:-0700
TZNAME:MST
DTSTART:20251102T080000
END:STANDARD
BEGIN:DAYLIGHT
TZOFFSETFROM:-0700
TZOFFSETTO:-0600
TZNAME:MDT
DTSTART:20260308T090000
END:DAYLIGHT
BEGIN:STANDARD
TZOFFSETFROM:-0600
TZOFFSETTO:-0700
TZNAME:MST
DTSTART:20261101T080000
END:STANDARD
BEGIN:DAYLIGHT
TZOFFSETFROM:-0700
TZOFFSETTO:-0600
TZNAME:MDT
DTSTART:20270314T090000
END:DAYLIGHT
BEGIN:STANDARD
TZOFFSETFROM:-0600
TZOFFSETTO:-0700
TZNAME:MST
DTSTART:20271107T080000
END:STANDARD
END:VTIMEZONE
BEGIN:VEVENT
DTSTART;VALUE=DATE:20260413
DTEND;VALUE=DATE:20260420
DTSTAMP:20260421T053116
CREATED:20250411T001919Z
LAST-MODIFIED:20250413T005219Z
UID:8254-1776038400-1776643199@villagecraftwinemaker.ca
SUMMARY:World Malbec Day: April 17/ 2026
DESCRIPTION:World Malbec Day: April 17/ 26\n \nA 2\,000-year-old black grape with thick skin\, the colour of a Malbec wine is so dark and inky\, it’s almost opaque and has been coined with the nickname “Black Wine.” Today\, over 75% of all Malbec grapes are grown in Argentina and April 17th is celebrated as World Malbec Day. \nMalbec is one of the Noble Grapes. \nTo keep with tradition\, we have a great Argentinian Malbec to toast the occasion! Cru International Argentina Malbec Style blends Argentina’s most cherished red grape\, Cru Select Chilean Malbec and En Premier Chilean Malbec. \n15% off Malbec’s in the store from April 17 to 23rd
URL:https://villagecraftwinemaker.ca/event/world-malbec-day-april-17-2026/
LOCATION:Village Craft Winemaker\, 105 358 58 Ave SW\, Calgary\, AB\, T2H2M5\, Canada
CATEGORIES:day,sale
ORGANIZER;CN="Village Craft Winemaker":MAILTO:lori@villagecraftwinemaker.ca
END:VEVENT
BEGIN:VEVENT
DTSTART;VALUE=DATE:20251129
DTEND;VALUE=DATE:20251208
DTSTAMP:20260421T053116
CREATED:20241204T185248Z
LAST-MODIFIED:20250411T024319Z
UID:7695-1764374400-1765151999@villagecraftwinemaker.ca
SUMMARY:International Cabernet Franc Day
DESCRIPTION:Cabernet Franc day December 4\, 2025\, which is one of the wine world’s most important\, yet often understated\, red grape varieties.Today\, Cabernet Franc is one of the most widely planted grape varieties in the world \nIt all began in southwest France sometime in the 17th century with Cardinal Richelieu’s love for a particular blue-black grape. He loved them so much that he transported vine cuttings from Bordeaux to the Loire Valley. The berry has been growing and thriving there ever since. \nToday\, Cabernet Franc is one of the most widely planted grape varieties in the world. It is a blending wine in French wines. Most famous blends are Saint Emilion and Pomerol. \nLuxurious\, food-friendly acidic flavours of cherries\, blackberries and plums combined with toasty nutmeg and vanilla spices\, bring this medium-bodied wine to life \nCab Franc is also the parent of Cabernet Sauvignon \nOn the palate\, it unveils a round mouth feel with the bold tannins  for a remarkably supported finish. \nCabernet Franc is the parent of Cabernet Sauvignon\, Merlot and Carmenere.
URL:https://villagecraftwinemaker.ca/event/international-cabernet-franc-day/
LOCATION:Village Craft Winemaker\, 105 358 58 Ave SW\, Calgary\, AB\, T2H2M5\, Canada
CATEGORIES:day,sale
ORGANIZER;CN="Village Craft Winemaker":MAILTO:lori@villagecraftwinemaker.ca
END:VEVENT
BEGIN:VEVENT
DTSTART;VALUE=DATE:20251124
DTEND;VALUE=DATE:20251125
DTSTAMP:20260421T053116
CREATED:20201123T185146Z
LAST-MODIFIED:20250310T035226Z
UID:1862-1763942400-1764028799@villagecraftwinemaker.ca
SUMMARY:Carménère Day November 24\, 2025
DESCRIPTION:Carménère Day. November 24  to commemorate its rediscovery in Chile 24 years ago \nCarménère was first brought to Chile in the mid 1800s and was thought to be Merlot until 1994. The leaves look very similar to Merlot and the vines were intermingled. The root stocks are the original from over 100 years ago. \nThis opulent and rich wine; Carménère boasts the luscious flavours of red cherries and berries\, with hints of spice and leather enhanced with robust tannins.  En Primeur kit with 2.5 lbs of Grape skins makes for an exceptional wine.  Your Chile Carmenère kit will make a wine that is deep red in colour and has flavours of cherries\, blackberries\, spice and enhanced with leather and robust tannins.  Enjoy it with all kinds of meat dishes from burgers and steaks to hearty stews. \nCarménère is originally from France. In fact\, it’s one of the six grapes currently allowed in Bordeaux’s famous Noble grapes. \n \n15% off a Carmenere kit.  Cannot be combined with other offers. \n  \n 
URL:https://villagecraftwinemaker.ca/event/carmenere-day/
LOCATION:Village Craft Winemaker\, 105 358 58 Ave SW\, Calgary\, AB\, T2H2M5\, Canada
CATEGORIES:day,sale
ORGANIZER;CN="Village Craft Winemaker":MAILTO:lori@villagecraftwinemaker.ca
END:VEVENT
BEGIN:VEVENT
DTSTART;VALUE=DATE:20251117
DTEND;VALUE=DATE:20251124
DTSTAMP:20260421T053116
CREATED:20230112T205919Z
LAST-MODIFIED:20250310T010459Z
UID:4159-1763337600-1763942399@villagecraftwinemaker.ca
SUMMARY:Zinfandel Day November 20\, 2025
DESCRIPTION:Zinfandel is synonymous with California however it was discovered that it is related to the Italian Primitivo and actually comes from Croatia.   Zinfandel produces full-bodied\, robust red wines with some of the highest Alcohol content. \nLodi\, in Central California\, is known to have some of the country’s oldest Zinfandel vines\, some of which are more than 100 years old. \nWe have a Cru INternational Zinfandel and En Premeur Italian Zinfandel plus a Winepert Private Reserve Lodi Old Vine Zinfandel. 15% off\, cannot be combined with other offers. Primitivo.
URL:https://villagecraftwinemaker.ca/event/zinfandel-day-november-20-2024/
LOCATION:Village Craft Winemaker\, 105 358 58 Ave SW\, Calgary\, AB\, T2H2M5\, Canada
CATEGORIES:day,sale
ORGANIZER;CN="Village Craft Winemaker":MAILTO:lori@villagecraftwinemaker.ca
END:VEVENT
BEGIN:VEVENT
DTSTART;VALUE=DATE:20251101
DTEND;VALUE=DATE:20251201
DTSTAMP:20260421T053116
CREATED:20210505T223324Z
LAST-MODIFIED:20250309T200229Z
UID:218-1761955200-1764547199@villagecraftwinemaker.ca
SUMMARY:Merlot Month - November 2025
DESCRIPTION:It’s Merlot month! One of the Noble Grapes\, November 2025 \nSo Merlot can certainly hold its own but it also plays an important role in blends\, especially together with Cabernet Sauvignon where Merlot’s fruitiness counters the Cabernet’s higher level of tannins and structure. \nAlso makes the best St.Emillion which we are brewing up at the store. \nMerlot Month from RJS   read more \nEnjoy 15% off any Merlot kits bought on this month at Village Craft Winemaker. \n \nCannot be combined with any other discount
URL:https://villagecraftwinemaker.ca/event/merlot-day/
LOCATION:Village Craft Winemaker\, 105 358 58 Ave SW\, Calgary\, AB\, T2H2M5\, Canada
CATEGORIES:day,sale
ORGANIZER;CN="Village Craft Winemaker":MAILTO:lori@villagecraftwinemaker.ca
END:VEVENT
BEGIN:VEVENT
DTSTART;VALUE=DATE:20250912
DTEND;VALUE=DATE:20250921
DTSTAMP:20260421T053116
CREATED:20191213T042858Z
LAST-MODIFIED:20250309T200341Z
UID:786-1757635200-1758412799@villagecraftwinemaker.ca
SUMMARY:International Grenache Day September 17 2025
DESCRIPTION:September 17\, 2024 \nGrenache and Garnacha are the same thing. Grenache is the name in France\, Garnacha is the name in Spain. We have an amazing Grenache Syrah which if you are interested.   We also have a Winexpert GSM (Grenache Syrah Mourvèdre) for you also \n \n15% off all Grenache kits (Cannot be combined with other offers)
URL:https://villagecraftwinemaker.ca/event/international-grenache-day/
LOCATION:Village Craft Winemaker\, 105 358 58 Ave SW\, Calgary\, AB\, T2H2M5\, Canada
CATEGORIES:day,sale
ORGANIZER;CN="Village Craft Winemaker":MAILTO:lori@villagecraftwinemaker.ca
END:VEVENT
BEGIN:VEVENT
DTSTART;VALUE=DATE:20250811
DTEND;VALUE=DATE:20250822
DTSTAMP:20260421T053116
CREATED:20191213T041256Z
LAST-MODIFIED:20250309T200444Z
UID:781-1754935200-1755799199@villagecraftwinemaker.ca
SUMMARY:Pinot Noir Day August 18\, 2025
DESCRIPTION:Pinot Noir Day August 18\, 2025 \nPinot Noir is a fantastic wine\, but a temperamental grape. With its rich color and complex flavors\, it is largely considered one of the most hedonistic wines ever made. Elegant and berry-like\, its velvet flavor is the perfect addition to any affair. Pinot Noir Day celebrates this wine and the regions of the world in which it’s cultivated. \nPinot Noir is a red skinned\, clear grape that produces excellent Pinot Noir\, Champange\, Pinot Noir Rosé and excellent red wine. The wine is coloured by leaving the skins on. \n15% off on the other Pinot Noir Kits. Cannot be combined with other offers
URL:https://villagecraftwinemaker.ca/event/pinot-noir-day/
LOCATION:Village Craft Winemaker\, 105 358 58 Ave SW\, Calgary\, AB\, T2H2M5\, Canada
CATEGORIES:day,sale
ORGANIZER;CN="Village Craft Winemaker":MAILTO:lori@villagecraftwinemaker.ca
END:VEVENT
BEGIN:VEVENT
DTSTART;VALUE=DATE:20250601
DTEND;VALUE=DATE:20250701
DTSTAMP:20260421T053116
CREATED:20210508T040942Z
LAST-MODIFIED:20250413T165948Z
UID:1444-1748736000-1751327999@villagecraftwinemaker.ca
SUMMARY:Rose and Rosé Month: June 2025
DESCRIPTION:June is National Rose Month… and Rosé Month at Village Craft Winemaker!\nDid you know? June is officially National Rose Month\, celebrating the timeless beauty\, symbolism\, and cultural significance of the rose. First recognized in the U.S. in 1959\, it helped pave the way for the rose to become the national flower. \nAnd as National Rosé Day falls on the second Saturday of June (June 14 in 2025)\, we thought—why not celebrate all month long? \nSo\, we’re declaring it National Rosé Month too! 🍷🌹 \nEnjoy 15% Off Rosé Wine Kits All Month Long!\nFrom sweet to dry\, light to full-bodied—there’s a rosé for everyone. \nOur featured styles include: \n\nBourbon Rosé – Silver Medal Winner at WineMaker Magazine’s International Wine Making Competition\nWhite Zinfandel\nPinot Noir Rosé (Winexpert)\nFrench Rosé – 24 bottle kit\n\nNot sure which to choose?\nCome in and chat with our friendly sommelier (don’t worry\, she doesn’t bite!) to discover the perfect rosé based on your personal taste profile. \n✨ Call to reserve your kit(s) today and raise a glass to the blush side of wine!
URL:https://villagecraftwinemaker.ca/event/rose-and-rose-month-june-2025/
LOCATION:Village Craft Winemaker\, 105 358 58 Ave SW\, Calgary\, AB\, T2H2M5\, Canada
CATEGORIES:day,sale
ORGANIZER;CN="Village Craft Winemaker":MAILTO:lori@villagecraftwinemaker.ca
END:VEVENT
BEGIN:VEVENT
DTSTART;VALUE=DATE:20250519
DTEND;VALUE=DATE:20250526
DTSTAMP:20260421T053116
CREATED:20210506T060025Z
LAST-MODIFIED:20250413T004407Z
UID:776-1747612800-1748217599@villagecraftwinemaker.ca
SUMMARY:International Chardonnay Day: May 22 \, 2025
DESCRIPTION:International Chardonnay Day\n\nThursday before Memorial Day (May 22 in 2025) \nDescribing the flavours of a Chardonnay can be very challenging because they differ based on different winemaking techniques. They boast impressive ranges from the expected butter and oak to fresh fruit flavours of citrus\, apple and tropical fruits. While many Chardonnays have high aromatic complexity\, others can have smoky\, vanilla and spice notes due to barrel fermentation or distinctive buttery aromas due to malolactic fermentation. \nThese are not the old over-oaked Chardonnay from years ago. Also French Chablis is a Chardonnay. The wines should be fruity yet balanced by a steely\, mineral character that’s the epitome of Chardonnay this far north. \nEnjoy this Chardonnay 15 % off all Chardonnay kits from May 19 to May 25\, 2025 – Cannot be combined with other offers!
URL:https://villagecraftwinemaker.ca/event/international-chardonnay-day-may-22-2025/
LOCATION:Village Craft Winemaker\, 105 358 58 Ave SW\, Calgary\, AB\, T2H2M5\, Canada
CATEGORIES:day,sale
ORGANIZER;CN="Village Craft Winemaker":MAILTO:lori@villagecraftwinemaker.ca
END:VEVENT
BEGIN:VEVENT
DTSTART;VALUE=DATE:20250505
DTEND;VALUE=DATE:20250512
DTSTAMP:20260421T053116
CREATED:20210503T231020Z
LAST-MODIFIED:20250413T004216Z
UID:2270-1746403200-1747007999@villagecraftwinemaker.ca
SUMMARY:International Moscato Day: May 9\, 2025
DESCRIPTION:World Moscato Day\n \nMoscato wine is famous for its sweet flavors of peaches and orange blossom. The word Moscato (“moe-ska-toe”) is the Italian name for Muscat Blanc – one of the oldest wine grapes in the world! Grown in France\, Italy\, Austria\, Greece\, Israel and even Australia. Wines are often dry to taste\, but since the aromatics are so sweet and fruity your brain tricks you into thinking they’re sweet. They’re awesome\, especially if you are counting Carbs. \nAvailable in\, RJS Cru International Muscat and En Primeur Winemaker Trio White. \n15% off kits till May 11\,2025
URL:https://villagecraftwinemaker.ca/event/international-moscato-day-may-9-2025/
LOCATION:Village Craft Winemaker\, 105 358 58 Ave SW\, Calgary\, AB\, T2H2M5\, Canada
CATEGORIES:day,sale
ORGANIZER;CN="Village Craft Winemaker":MAILTO:lori@villagecraftwinemaker.ca
END:VEVENT
BEGIN:VEVENT
DTSTART;VALUE=DATE:20250428
DTEND;VALUE=DATE:20250505
DTSTAMP:20260421T053116
CREATED:20191213T032125Z
LAST-MODIFIED:20250413T004110Z
UID:766-1745798400-1746403199@villagecraftwinemaker.ca
SUMMARY:International Sauvignon Blanc: May 2\, 2025
DESCRIPTION:International Sauvignon Blanc Day\,  On May 2\, 2025 There are 3 Sauvignon Blanc Kits:  we have the  En Primeur Chilean Sauvignon Blanc\,  Cru Select New Zealand Sauvignon Blanc and Ontario Sauvignon Blanc in stock to choose from. \nOntario Sauvignon Blanc is straw in colour with a refreshing grassy nose; bold herbal tones and fresh citrus flavours on the palate. This wine is as delightful as a cool Ontario Fall day\, its finish both long and fruity. \nThis renowned New Zealand wine presents soft hues in the glass. It is crisp and light with intense flavours of grapefruit peel\, freshly cut grass and light oak on the finish. Kim Crawford taste \nSave 15% on these kits till May 4\, 2025. Cannot be combined with other offers.
URL:https://villagecraftwinemaker.ca/event/international-sauvignon-blanc-may-2-2025/
LOCATION:Village Craft Winemaker\, 105 358 58 Ave SW\, Calgary\, AB\, T2H2M5\, Canada
CATEGORIES:day,sale
ORGANIZER;CN="Village Craft Winemaker":MAILTO:lori@villagecraftwinemaker.ca
END:VEVENT
BEGIN:VEVENT
DTSTART;VALUE=DATE:20250421
DTEND;VALUE=DATE:20250428
DTSTAMP:20260421T053116
CREATED:20210421T150941Z
LAST-MODIFIED:20250413T004019Z
UID:2256-1745193600-1745798399@villagecraftwinemaker.ca
SUMMARY:International Viognier Day: April 25\, 2025
DESCRIPTION:Outside of the Rhône\, Viognier can be found in regions of North and South America as well as Australia\, New Zealand\, the Cape Winelands in South Africa and Israel. \nViognier is a viable choice for people who love white wine that is dry but also feels soft and round\, with medium to full body\, plus qualities transcending Chardonnay’s more expected flavours. Besides Viognier’s weighty\, textural sensations\, it can offer intoxicating floral and succulent fruit aromas — notes of spring flowers plus peaches and apricots\, and even the lush fruits of the tropics. \nWe Have Cru Select Trio and Viognier Pinot Gris\, Both amazing wines and a Winexpert Viognier \nStop by the store for a Viognier\, 15% off.  Cannot be combined with other offers.
URL:https://villagecraftwinemaker.ca/event/international-viognier-day-april-25-2025/
LOCATION:Village Craft Winemaker\, 105 358 58 Ave SW\, Calgary\, AB\, T2H2M5\, Canada
CATEGORIES:day,sale
ORGANIZER;CN="Village Craft Winemaker":MAILTO:lori@villagecraftwinemaker.ca
END:VEVENT
BEGIN:VEVENT
DTSTART;VALUE=DATE:20250414
DTEND;VALUE=DATE:20250421
DTSTAMP:20260421T053116
CREATED:20220303T232918Z
LAST-MODIFIED:20250413T003852Z
UID:3496-1744588800-1745193599@villagecraftwinemaker.ca
SUMMARY:World Malbec Day: April 17\, 2025
DESCRIPTION:World Malbec Day: April 17/ 25\n \nA 2\,000-year-old black grape with thick skin\, the colour of a Malbec wine is so dark and inky\, it’s almost opaque and has been coined with the nickname “Black Wine.” Today\, over 75% of all Malbec grapes are grown in Argentina and April 17th is celebrated as World Malbec Day. \nMalbec is one of the Noble Grapes. \nTo keep with tradition\, we have a great Argentinian Malbec to toast the occasion! Cru International Argentina Malbec Style blends Argentina’s most cherished red grape\, Cru Select Chilean Malbec and En Premier Chilean Malbec. \n15% off Malbec’s in the store from April 17 to 23rd
URL:https://villagecraftwinemaker.ca/event/world-malbec-day-april-17-2025/
LOCATION:Village Craft Winemaker\, 105 358 58 Ave SW\, Calgary\, AB\, T2H2M5\, Canada
CATEGORIES:day,sale
ORGANIZER;CN="Village Craft Winemaker":MAILTO:lori@villagecraftwinemaker.ca
END:VEVENT
END:VCALENDAR